BEGIN:VCALENDAR
VERSION:1.0
PRODID:Open2CKalenderExportV11
BEGIN:VEVENT
DTSTAMP:20250213T163322Z
DTSTART:20250219T193000Z
DTEND:20250219T193000Z
CATEGORIES:Wahlen
SUMMARY:Wahleinweisung für die Wahlvorstände der Urnenwahllokale zur Bundestagswahl
DESCRIPTION: | Organisator   Gemeinde Scheyern | Kontakt   Frau Hagl, 08441/8064-24, geschaeftsleitung@scheyern.de
LOCATION:Trauungszimmer, Rathausplatz 2, 85298 Scheyern
 1. Stock
UID:8c4526f814990010b24aa5f55ffeff96-d77d8bf44502f983f4c3d73cdde9fa3b
PRIORITY:3
END:VEVENT
END:VCALENDAR
