BEGIN:VCALENDAR
VERSION:1.0
PRODID:Open2CKalenderExportV11
BEGIN:VEVENT
DTSTAMP:20250207T104237Z
DTSTART:20250214T180000Z
DTEND:20250214T180000Z
CATEGORIES:Vereine
SUMMARY:Jahreshauptversammlung mit Neuwahlen des Jugendtreff Scheyern e.V.
DESCRIPTION:Für alle Mitglieder und Interessierte. | Organisator   Jugendtreff Scheyern e.V.
LOCATION:Jugendtreff, Hochstr. 19, 85298 Scheyern
UID:5fe76e2c6f789b7b65d0d4ef6b6fb429-b7ff96d96c7125a98aee126648d91ea0
PRIORITY:3
END:VEVENT
END:VCALENDAR
