BEGIN:VCALENDAR
VERSION:1.0
PRODID:Open2CKalenderExportV11
BEGIN:VEVENT
DTSTAMP:20250314T075031Z
DTSTART:20250404T133000Z
DTEND:20250404T170000Z
CATEGORIES:Verschiedenes
SUMMARY:Einweihung des Geh- und Radweges von Euernbach nach Eisenhut
DESCRIPTION:Wir freuen uns, Sie herzlich zur offiziellen Einweihung des neuen Geh- und Radweges von Euernbach nach Eisenhut einzuladen! |   | Datum:           Freitag, den 4. April 2025 | Zeit:                Beginn um 13.30 Uhr am Fußballplatz in Euernbach |   | Die kirchliche Segnung beginnt um 13.30 Uhr am Radlweg beim Fußballplatz in Euernbach. Gemeinsam ziehen wir in einem feierlichen Umzug mit musikalischer Umrahmung zum Dorfgemeinschaftshaus, wo die offiziellen Ansprachen gehalten und das gemütliche Beisammensein stattfinden werden. |   | Wir danken den Eigentümern ganz herzlich, dass diese die Teile ihrer Grundstücke zur Verfügung gestellt haben. Ohne ihre Unterstützung wäre dieses Projekt nicht möglich gewesen. |   | Für Ihr leibliches Wohl wird bestens gesorgt. Genießen Sie bei Leberkäse und Wiener mit Freibier die festliche Atmosphäre und feiern Sie mit uns die Eröffnung des neuen Fahrradweges, der unsere Gemeinden noch näher zusammen\ningt und für mehr Lebensqualität sorgt. |   | Wir freuen uns auf eine gelungene Veranstaltung und eine Teilnahme mit möglichst vielen Radlfahrern. Eine Parkmöglichkeit für PKW’s finden Sie rund um das Dorfgemeinschaftshaus. |   |   | Organisator   Gemeinde Scheyern und Gerolsbach
LOCATION:85298 Euernbach
UID:e8c2e6cb44838ecace40a27be0291606-0e69f7e23ecbc0f584ca55764614b13a
PRIORITY:3
END:VEVENT
END:VCALENDAR
