BEGIN:VCALENDAR
VERSION:1.0
PRODID:Open2CKalenderExportV11
BEGIN:VEVENT
DTSTAMP:20250318T065910Z
DTSTART:20250319T160000Z
DTEND:20250319T160000Z
CATEGORIES:Sitzungen
SUMMARY:Sitzung des Haupt- und Finanzausschusse
DESCRIPTION:  | Weitere Informationen erhalten Sie unter folgendem Link: | SessionNet | Bürgerportal | Kontakt   Gemeindeverwaltung Scheyern
LOCATION:Rathaus Besprechungsraum OG 12, Rathausplatz 1
UID:a42494a712a0e536e13630273ffcb67c-f038782ea3f46bad55d01edb5f7c5eb9
PRIORITY:3
END:VEVENT
END:VCALENDAR
