BEGIN:VCALENDAR
VERSION:1.0
PRODID:Open2CKalenderExportV11
BEGIN:VEVENT
DTSTAMP:20250320T094841Z
DTSTART:20250324T143000Z
DTEND:20250324T163000Z
CATEGORIES:Verschiedenes
SUMMARY:Spielenachmittag für Alle
DESCRIPTION: |   |   | Organisator   Menschen mit Handicap e.V. und | Seniorenbeauftragte Gisela Wörl
LOCATION:Café Marienkäfer
 Rathausplatz 2
 85298 Scheyern
UID:211a88a402ce356b70392689066640a7-640a38b001d09eeff1dabb154ad88e29
PRIORITY:3
END:VEVENT
END:VCALENDAR
