BEGIN:VCALENDAR
VERSION:1.0
PRODID:Open2CKalenderExportV11
BEGIN:VEVENT
DTSTAMP:20250324T113027Z
DTSTART:20250410T090000Z
DTEND:20250410T090000Z
CATEGORIES:Feste
SUMMARY:Osterfeier (ohne Eltern)
DESCRIPTION:Die Kinder und Pädagoginnen feiern intern (ohne Eltern) Ostern in ihren Gruppen. | Neben einem gemeinsamen Osterfrühstück findet auch die Nestersuche im Garten statt. | Die Kinder benötigen an diesem Tag keine Vormittags\notzeit.
LOCATION:
UID:b7a98a078651f78f742099a5a9ebf49b-7a8086cc68ad96c382cee1127616ca66
PRIORITY:3
END:VEVENT
BEGIN:VEVENT
DTSTAMP:20250324T095004Z
DTSTART:20250417T000000Z
DTEND:20250422T000000Z
CATEGORIES:Schließtage
SUMMARY:Osterschließung
DESCRIPTION:An folgenden Werktagen hat die Kinderkrippe geschlossen: | Donnerstag, den 17.04.2025 | Dienstag, den 22.04.2025
LOCATION:
UID:6c58f2af052a7d5284fd19be4481a099-9216e3ebcecebfe0db223e4b29a351b3
PRIORITY:3
END:VEVENT
END:VCALENDAR
