BEGIN:VCALENDAR
VERSION:1.0
PRODID:Open2CKalenderExportV11
BEGIN:VEVENT
DTSTAMP:20250406T104218Z
DTSTART:20250410T193000Z
DTEND:20250410T193000Z
CATEGORIES:Vereine
SUMMARY:Frühjahrstreffen der Vereine und Einrichtungen
DESCRIPTION: |   |  
LOCATION:Café Marienkäfer
 Rathausplatz 2
 85298 Scheyern
UID:c4c56cbc0bb55bc0e93d51283d80e7ec-ec20e1925ab10abe9d27999e51b9ed3e
PRIORITY:3
END:VEVENT
END:VCALENDAR
