BEGIN:VCALENDAR
VERSION:1.0
PRODID:Open2CKalenderExportV11
BEGIN:VEVENT
DTSTAMP:20250411T104449Z
DTSTART:20251113T193000Z
DTEND:20251113T193000Z
CATEGORIES:Sitzungen
SUMMARY:Vereinstreffen und Jugendforum
DESCRIPTION:  | Einladung zum Vereinstreffen und dem Jugendforum |   |   | Sehr geehrte Damen und Herren, |   | die Jugendbeauftragte der Gemeinde Scheyern, Frau Anna Schrag, und die Frauenunion Scheyern laden herzlich ein zum |   | Herbsttreffen |   | am Donnerstag, 13. November 2025 um 19:30 Uhr  |   | im Dorfgemeinschaftshaus Euernbach. |   | Die Einladung richtet sich an die Vertreter der Vereine und Einrichtungen in der Gemeinde Scheyern. |   | An diesem Abend geht es um den gegenseitigen Austausch und die Terminabstimmung für das Jahr 2026. Bürgermeister Manfred Sterz steht als Ansprechpartner für die Gemeinde zur Verfügung. Fragen und Anregungen an Alice Köstler-Hösl (Tel. 71360) für die Frauenunion Scheyern und Anna Schrag (Tel. 18107), Jugenbeauftragte der Gemeinde. |   | Gerne können vorab Themenwünsche/Anliegen mitgeteilt werden. Ansprechpartner sind Alice Köstler-Hösl (alice.koestler-hoesl@web.de) und Anna Schrag (anna.schrag@gmx.de). |   | Wir freuen uns auf einen interessanten Abend rund um das Ehrenamt! |   | Mit freundlichen Grüßen |   |   | gez. |   | Anna Schrag                                                  Alice Köstler-Hösl                   | Jugendbeauftragte                                      für die Frauenunion Scheyern |   |   |   |   | Kontakt   Alice Köstler-Hösl und Anna Schrag
LOCATION:Dorfgemeinschaftshaus Euernbach
 Pfaffenhofener Str. 17
 85298 Euernbach
UID:ce2c0f62b9aa7314f81a3e61e1b7ab4a-c01bc9e73614ce28aa252c0af7de9aca
PRIORITY:3
END:VEVENT
END:VCALENDAR
