BEGIN:VCALENDAR
VERSION:1.0
PRODID:Open2CKalenderExportV11
BEGIN:VEVENT
DTSTAMP:20250415T073806Z
DTSTART:20250427T150000Z
DTEND:20250427T170000Z
CATEGORIES:Vereine
SUMMARY:Mitgliederversammlung Krieger-Soldaten-Reservistenkameradschaft Scheyern e.V.
DESCRIPTION: | Organisator   Krieger-Soldaten-Reservistenkameradschaft Scheyern e.V.
LOCATION:Vereinsheim, Hochstraße 19 d, 85298 Scheyern
UID:a403fe13c73e8d0d531d89808858544c-11952ba5e7a64735c2854138d97c96a5
PRIORITY:3
END:VEVENT
END:VCALENDAR
