BEGIN:VCALENDAR
VERSION:1.0
PRODID:Open2CKalenderExportV11
BEGIN:VEVENT
DTSTAMP:20250715T063857Z
DTSTART:20250724T163000Z
DTEND:20250724T163000Z
CATEGORIES:Kinder
SUMMARY:Schulung Schulweghelfer (30 Minuten)
DESCRIPTION:Am 19. Fe\nuar trafen sich die ehrenamtlichen Schulweghelfer der Grundschule Scheyern mit der örtlichen Polizei, der Schulleiterin Frau Sachse und Vertretern des Elternbeirats zur Retrospektive der Aktion „Gemeinsam für sichere Schulwege“. Die Initiative wurde im September 2024 ins Leben gerufen, um die Sicherheit der Schulkinder auf ihrem täglichen Weg zu verbessern. | Mit großem Engagement meldeten sich 27 freiwillige Helferinnen und Helfer, die seither für einen sicheren Schulweg sorgen. Nach 100 Tagen Einsatz wurde Bilanz gezogen. Das Fazit: Die Aktion ist ein voller Erfolg – dank der engen Zusammenarbeit zwischen der Gemeinde Scheyern, der Polizei Pfaffenhofen, der Grundschule Scheyern, dem Elternbeirat und den engagierten Schulweghelfern. | Bereits vor Schulbeginn setzte die Gemeinde zahlreiche Maßnahmen zur Verbesserung der Schulwegsicherheit um. Auch der Elternbeirat unterstützte aktiv bei der Organisation und Koordination. |   | Neuer Schulweghelfer-Standort in MitterscheyernAm 28. März 2025 fand eine Begehung in Mitterscheyern statt. Herr Demmelmeier von der Gemeinde Scheyern traf sich gemeinsam mit dem Elternbeirat vor Ort, um sich ein Bild der Situation zu machen. Ergebnis: Da der Schulbus auf Höhe des Bushäuschens hält, wird hier zeitnah ein Schulweghelfer eingesetzt, um die Kinder sicher zur Bushaltestelle zu begleiten. |   | Helfer gesucht – Mitterscheyern &amp; BotenwegUm die Sicherheit dauerhaft zu gewährleisten, suchen wir dringend Unterstützung an zwei weiteren Standorten: |  | Mitterscheyern: 7:25 – 7:45 Uhr | Botenweg in Scheyern: 7:25 – 7:55 Uhr |  | Ob regelmäßig, einmal im Monat oder als Springer – jede helfende Hand zählt. Die Einsatzzeiten werden individuell abgestimmt. | Eine 30-minütige Schulung der Helfer findet voraussichtlich am Donnerstag, 24.07.2025 statt. 16.30 Uhr - 17.00 Uhr | Interesse? | Dann melden Sie sich gerne unter: gs.scheyern.elternbeirat@gmail.com | Gemeinsam sorgen wir für einen sicheren Schulweg – jetzt auch in Mitterscheyern und am Botenweg! |   |  
LOCATION:
UID:7c2ddc7289ddf8a9d50930174c27ebd0-aee4fcaff68cc5efe5a0eb36345eb4b4
PRIORITY:3
END:VEVENT
END:VCALENDAR
