BEGIN:VCALENDAR
VERSION:1.0
PRODID:Open2CKalenderExportV11
BEGIN:VEVENT
DTSTAMP:20250512T082055Z
DTSTART:20250712T000000Z
DTEND:20250712T000000Z
CATEGORIES:Senioren
SUMMARY:Termine der Seniorennachmittage
DESCRIPTION:Mit folgendem Thema: | Einladung Obst- und Gartenbauverein | Organisator   Gisela Wörl | Seniorenbeauftragte | Gemeinde Scheyern
LOCATION:Im Pfarrzentrum in Scheyern, Schyrenplatz 1, 85298 Scheyern
 von 14:00 Uhr bis 17:00 Uhr
UID:3c394655f2131be799bc9b907bf96f9d-ceaea8b38f09b138e727edcbe541b89b
PRIORITY:3
END:VEVENT
END:VCALENDAR
