BEGIN:VCALENDAR
VERSION:1.0
PRODID:Open2CKalenderExportV11
BEGIN:VEVENT
DTSTAMP:20250512T084806Z
DTSTART:20250630T143000Z
DTEND:20250630T163000Z
CATEGORIES:Verschiedenes
SUMMARY:Spielenachmittag für Alle
DESCRIPTION: |   |   | Organisator   Menschen mit Handicap e.V. und | Seniorenbeauftragte Gisela Wörl
LOCATION:Café Marienkäfer
 Rathausplatz 2
 85298 Scheyern
UID:20d8a16e6b429fb29e3ede04a04c82c0-640a38b001d09eeff1dabb154ad88e29
PRIORITY:3
END:VEVENT
END:VCALENDAR
