BEGIN:VCALENDAR
VERSION:1.0
PRODID:Open2CKalenderExportV11
BEGIN:VEVENT
DTSTAMP:20250512T082525Z
DTSTART:20250910T000000Z
DTEND:20250910T000000Z
CATEGORIES:Senioren
SUMMARY:Termine der Seniorennachmittage
DESCRIPTION:Mit folgendem Thema:  | Seniorenausflug | Organisator   Gisela Wörl  | Seniorenbeauftragte  | Gemeinde Scheyern
LOCATION:Im Pfarrzentrum in Scheyern, Schyrenplatz 1, 85298 Scheyern
 von 14:00 Uhr bis 17:00 Uhr
UID:40ba31fadbef364518266175b3d96366-70f0e48a4872ba28bfbe06a4bac810e4
PRIORITY:3
END:VEVENT
END:VCALENDAR
