BEGIN:VCALENDAR
VERSION:1.0
PRODID:Open2CKalenderExportV11
BEGIN:VEVENT
DTSTAMP:20250611T092042Z
DTSTART:20250619T000000Z
DTEND:20250619T000000Z
CATEGORIES:Feste
SUMMARY:Brauereifest
DESCRIPTION:Kloster\nauerei Scheyern lädt zum traditionellen Brauereifest ein: Feiern Sie mit uns die Geschichte des Bieres und genießen Sie Schmankerl aus der Klostermetzgerei! | Die Kloster\nauerei Scheyern feiert dieses Jahr ihr 19.  Brauereifest. Schon seit dem Jahre 1119 wird im Kloster von Scheyern Bier hergestellt. Damit ist die Kloster\nauerei Scheyern die drittälteste Brauerei Deutschlands und eine der ältesten Braustätten der Welt. | Am Donnerstag, 19. Juni 2025, verwandelt sich der Innenhof der Kloster\nauerei in einen Festplatz für Liebhaber bayerischer Tradition und exzellenten Bieres. | Das Fest beginnt nach der feierlichen Fronleichnamsprozession und bietet ein abwechslungsreiches Programm: |  | 8:30 Uhr: Festgottesdienst in der Basilika, gefolgt von der traditionellen Fronleichnamsprozession. | Ab ca. 10:30 Uhr: Gemütliches Weißwurstessen mit den Mönchen des Kloster Scheyern, musikalisch begleitet von der Scheyrer Blaskapelle. | Ab 12:30 Uhr: Für internationale Unterhaltung sorgen unsere slowenischen Gäste mit einer eigens angereisten Tanzgruppe und den „3 Scheinheiligen“. | Ab 17:30 Uhr: Die Blaskapelle Steinkirchen unter der Leitung von Stefan Bachl spielt bis ca. 22:00 Uhr zünftige bayerisch-böhmische Blasmusik. |  | Besucher können sich auf erfrischende Biere aus der Kloster\nauerei, köstliche Spezialitäten aus der Klostermetzgerei und gute Stimmung freuen. Erleben Sie die einzigartige Atmosphäre einer Brauerei mit jahrhundertealter Geschichte und feiern Sie mit uns ein Stück bayerischer Bierkultur. |   |   | Organisator   Kloster Scheyern
LOCATION:Festzelt vor der Klostermetzgerei
UID:ee48bbcf8e1cbeff9246a45452c89c5e-9ebfa4bb9324ad4f4cd6c5c2176772c9
PRIORITY:3
END:VEVENT
END:VCALENDAR
