BEGIN:VCALENDAR
VERSION:1.0
PRODID:Open2CKalenderExportV11
BEGIN:VEVENT
DTSTAMP:20250708T112523Z
DTSTART:20250713T170000Z
DTEND:20250713T170000Z
CATEGORIES:Konzerte allgemein
SUMMARY:Klosterkonzerte
DESCRIPTION:Eröffnungskonzert Sommerkonzerte 2025 Cantabile Regensburg. |   | Organisator   Kloster Scheyern
LOCATION:Basilika
UID:078ec20628e97c9d9c86b80ce0168fa1-9810762f08c1452f1822f874bb24b200
PRIORITY:3
END:VEVENT
END:VCALENDAR
