BEGIN:VCALENDAR
VERSION:1.0
PRODID:Open2CKalenderExportV11
BEGIN:VEVENT
DTSTAMP:20250728T063316Z
DTSTART:20250914T093000Z
DTEND:20250914T093000Z
CATEGORIES:Kirche
SUMMARY:Termine Pfarrei Scheyern
DESCRIPTION: | Organisator   Pfarrei Scheyern
LOCATION:Klosterinnenhof
UID:2a63748d849be02455ecc5ecaea7a56e-da9a6a5bd4b5e0fdd195747c82185ba5
PRIORITY:3
END:VEVENT
END:VCALENDAR
