BEGIN:VCALENDAR
VERSION:1.0
PRODID:Open2CKalenderExportV11
BEGIN:VEVENT
DTSTAMP:20250523T063850Z
DTSTART:20250616T000000Z
DTEND:20250616T000000Z
CATEGORIES:Senioren
SUMMARY:Termine der Seniorennachmittage
DESCRIPTION:Mit folgendem Thema:  |   | Aufgrund der großartigen Rückmeldungen zu den unterhaltsamen Geschichten der beiden ehemaligen Bürgermeister wurden sie erneut eingeladen. | Freuen Sie sich auf neue, lustige Geschichten von den ehemaligen Bürgermeistern Reinhard Heinrich und Manfred Russer. |   |   | Organisator   Gisela Wörl  | Seniorenbeauftragte  | Gemeinde Scheyern
LOCATION:Im Pfarrzentrum in Scheyern, Schyrenplatz 1, 85298 Scheyern
 von 14:00 Uhr bis 17:00 Uhr
UID:127e8772d173d9e8637f0334ca176b13-b20c00c431864ed99db13faa00eb82b7
PRIORITY:3
END:VEVENT
END:VCALENDAR
