BEGIN:VCALENDAR
VERSION:1.0
PRODID:Open2CKalenderExportV11
BEGIN:VEVENT
DTSTAMP:20250605T070936Z
DTSTART:20250605T000000Z
DTEND:20250618T000000Z
CATEGORIES:Ausstellungen
SUMMARY:Wanderausstellung "Lebenslinien"
DESCRIPTION:Die Schülerinnen und Schüler der Berufsintegrationsklassen der staatlichen Berufsschule Pfaffenhofen stellen ihre Werke und Impressionen rund um das Thema vor. |   | Es geht um die Aspekte Würde, Freiheit, Gleichheit, Mut, Verantwortung und Rassismus. |   | Die Ausstellung ist während den Öffnungszeiten des Rathauses zu besichtigen: | Montag – Freitag: 8.00 – 12.00 Uhr | Donnerstag zusätzlich: 14.00 – 18.00 Uhr |   |   | Organisator   Staatliche Berufsschule Pfaffenhofen | Integrationsklassen
LOCATION:Rathaus Scheyern
 Rathausplatz 1
 85298 Scheyern
UID:feb8c19677195ea54f098f3fce4b15f9-23552a226e42c4f98c5c608cec946cfb
PRIORITY:3
END:VEVENT
END:VCALENDAR
