BEGIN:VCALENDAR
VERSION:1.0
PRODID:Open2CKalenderExportV11
BEGIN:VEVENT
DTSTAMP:20250605T081414Z
DTSTART:20250605T170000Z
DTEND:20250605T170000Z
CATEGORIES:Ausstellungen
SUMMARY:Planetarium "Was gibt`s im All?"
DESCRIPTION:Heute findet die Ausstellung -astronomische Grundlagen erleben- Sonne, Sterne, Sonnensystem, Planeten, Galaxiendurchflüge statt. | Wann: 05.06.2025 um 17:00 Uhr | Der Elternbeirat freut sich über Spenden. |   | Organisator   Grundschule Scheyern
LOCATION:Turnhalle der Grundschule
 Hochstr. 19 a
 85298 Scheyern
UID:a967158d9019348bf0817768354fbe62-d7b83ec5e3261217386517a87715b06a
PRIORITY:3
END:VEVENT
END:VCALENDAR
