BEGIN:VCALENDAR
VERSION:1.0
PRODID:Open2CKalenderExportV11
BEGIN:VEVENT
DTSTAMP:20250822T061917Z
DTSTART:20251003T000000Z
DTEND:20251003T000000Z
CATEGORIES:Sport
SUMMARY:Schyren-Lauf
DESCRIPTION:SCHYREN-LAUF 2025 |   | 3. Oktober 2025 | Prielhof, 85298 Scheyern |   | PROGRAMM | 10:00 Uhr: Beginn Rahmenprogramm11:00 Uhr: Bambini-Lauf11:15 Uhr: Kinder-Lauf11:45 Uhr: Jugend-Lauf12:15 Uhr: Nordic-Walking-Lauf12:30 Uhr: Fitness-Lauf13:30 Uhr: Schyren-Lauf15:30 Uhr: Siegerehrung |   | Weitere Informationen erhalten Sie beim Veranstalter unter Teilnehmer-Infos – SCHYREN-LAUF |   |   | Organisator   ST Scheyern
LOCATION:Prielhof Scheyern
UID:7748a1b62617f00bf02c57af308315c3-5af138d96ee621ffe274d5264391206e
PRIORITY:3
END:VEVENT
BEGIN:VEVENT
DTSTAMP:20250512T081824Z
DTSTART:20251005T000000Z
DTEND:20251005T000000Z
CATEGORIES:Senioren
SUMMARY:Termine der Seniorennachmittage
DESCRIPTION:Mit folgendem Thema:  | Großer Seniorennachmittag | Organisator   Gisela Wörl  | Seniorenbeauftragte  | Gemeinde Scheyern
LOCATION:Im Pfarrzentrum in Scheyern, Schyrenplatz 1, 85298 Scheyern
 von 14:00 Uhr bis 17:00 Uhr
UID:8adcf7db463692236ad089daead65c13-6f3875c5f70945e1f57ff9a20d562a25
PRIORITY:3
END:VEVENT
BEGIN:VEVENT
DTSTAMP:20250512T083833Z
DTSTART:20251005T140000Z
DTEND:20251005T140000Z
CATEGORIES:Senioren
SUMMARY:Termine Pfarrei Scheyern
DESCRIPTION:Großer Seniorennachmittag | Organisator   Pfarrei Scheyern
LOCATION:Pfarrzentrum
UID:d110f85f33915a860225e746e724ae0b-a47127cf5c4bc0dc47c0cf8fb92631ed
PRIORITY:3
END:VEVENT
BEGIN:VEVENT
DTSTAMP:20250925T072431Z
DTSTART:20251010T190000Z
DTEND:20251010T190000Z
CATEGORIES:Vorträge
SUMMARY:Vortrag: Neurodiversität
DESCRIPTION: |   |   | Organisator   Menschen mit Handicap e.V.
LOCATION:Rathausplatz 2
 85298 Scheyern
UID:e7fb97adc87ff1b208b0cf6185d884c1-96fa3d4f7cdeb9e1990a3e39194af65a
PRIORITY:3
END:VEVENT
BEGIN:VEVENT
DTSTAMP:20250924T084114Z
DTSTART:20251026T160000Z
DTEND:20251026T180000Z
CATEGORIES:Verschiedenes
SUMMARY:Kleidertausch
DESCRIPTION: |   |   | Organisator   Arbeitskreis Ökologie des Pfarrgemeinderates Scheyern | Kontakt   klimaschutz-scheyern@gmx.de
LOCATION:Pfarrsaal
 Schyrenplatz 1
 85298 Scheyern
UID:b99869b7196bc39fe30a23b2dc37726d-9b05f9ca5427de6a126581c44d652296
PRIORITY:3
END:VEVENT
BEGIN:VEVENT
DTSTAMP:20250910T093651Z
DTSTART:20251027T143000Z
DTEND:20251027T163000Z
CATEGORIES:Verschiedenes
SUMMARY:Spielenachmittag für Alle
DESCRIPTION: |   |   |   |   | Organisator   Menschen mit Handicap e.V. und | Seniorenbeauftragte Gisela Wörl
LOCATION:Café Marienkäfer
 Rathausplatz 2
 85298 Scheyern
UID:b95746ec1d33d69cc9a209d71694e0fa-943ead970005c6df7807c3ece64db3eb
PRIORITY:3
END:VEVENT
END:VCALENDAR
