BEGIN:VCALENDAR
VERSION:1.0
PRODID:Open2CKalenderExportV11
BEGIN:VEVENT
DTSTAMP:20250911T060205Z
DTSTART:20250920T140000Z
DTEND:20250920T140000Z
CATEGORIES:Kinder
SUMMARY:Kindernachmittag bei der Feuerwehr Scheyern
DESCRIPTION: |   |   | Organisator   Feuerwehr Scheyern
LOCATION:Plöckinger Str. 6
 85298 Scheyern
UID:388d2957fca1b1c4296d49374d777f87-145aa78e90722d5725091c5ef3d2dfd5
PRIORITY:3
END:VEVENT
END:VCALENDAR
