BEGIN:VCALENDAR
VERSION:1.0
PRODID:Open2CKalenderExportV11
BEGIN:VEVENT
DTSTAMP:20251212T113420Z
DTSTART:20260120T193000Z
DTEND:20260120T193000Z
CATEGORIES:Sitzungen
SUMMARY:Sitzung des Gemeinderates
DESCRIPTION:  | Weitere Informationen erhalten Sie unter folgendem Link: | SessionNet | Bürgerportal | Kontakt   Gemeindeverwaltung Scheyern
LOCATION:im neuen Bürgersaal, Rathausplatz 2 (2. OG)
UID:3a54fcb0aa7fdcdf4055cfa4fef2149c-7d459687f9da8fc79985f597e501cfcf
PRIORITY:3
END:VEVENT
BEGIN:VEVENT
DTSTAMP:20251212T114923Z
DTSTART:20260127T160000Z
DTEND:20260127T160000Z
CATEGORIES:Sitzungen
SUMMARY:Sitzung des Bau- und Umweltausschusses
DESCRIPTION:  | Weitere Informationen erhalten Sie unter folgendem Link: | SessionNet | Bürgerportal | Kontakt   Gemeindeverwaltung Scheyern
LOCATION:Rathaus Besprechungsraum OG 12, Rathausplatz 1
UID:711ca6f84cfa32cd6fd49261ac3a6da5-2156ad57960b2e69ab15e8dbd7cdf6e2
PRIORITY:3
END:VEVENT
END:VCALENDAR
