BEGIN:VCALENDAR
VERSION:1.0
PRODID:Open2CKalenderExportV11
BEGIN:VEVENT
DTSTAMP:20260127T142920Z
DTSTART:20260206T160000Z
DTEND:20260206T160000Z
CATEGORIES:Kirche
SUMMARY:Faschingskonzert der Basilikasingschule Scheyern
DESCRIPTION:Am Freitag, den 6. Fe\nuar, findet um 16.00 Uhr in der Aula der Mittelschule das traditionelle Faschingskonzert der Basilikasingschule Scheyern statt. Die Besucher erwartet ein buntes Programm aus lustigen Liedern, Tänzen und Sketchen, das die fast 100 Mitglieder im Alter von drei bis 19 Jahren in sechs verschiedenen Untergruppen einstudiert haben. Der Eintritt ist frei, die Basilikasingschule Scheyern freut sich über Spenden für ihre verschiedenen Projekte im Jahr 2026. |   |   |  |   |   | Organisator   Basilikasingschule Scheyern | Herr Martin Seidl | Kontakt   www.basilikamusik-scheyern.de
LOCATION:Aula in der Mittelschule Scheyern
 Marienstr. 29
 85298 Scheyern
UID:8f01fae7fb23ff939086578b6b1e99fe-433bef4203eacc174bd2e76a667b0296
PRIORITY:3
END:VEVENT
END:VCALENDAR
