BEGIN:VCALENDAR
VERSION:1.0
PRODID:Open2CKalenderExportV11
BEGIN:VEVENT
DTSTAMP:20260119T104831Z
DTSTART:20260228T183000Z
DTEND:20260228T183000Z
CATEGORIES:Feste
SUMMARY:Starkbierfest in Euernbach
DESCRIPTION: | Organisator   Dorfverein Euernbach
LOCATION:Dorfgemeinschaftshaus Euernbach
UID:789432faff9b03cd09e6627db3f34a6b-0c9bd01500853dd18a092bcddee8a67d
PRIORITY:3
END:VEVENT
END:VCALENDAR
