BEGIN:VCALENDAR
VERSION:2.0
PRODID:< http://www.open2c.de/ >
METHOD:PUBLISH
X-PUBLISHED-TTL:PT12H
BEGIN:VEVENT
CREATED:20230123T112219Z
LAST-MODIFIED:20230314T124406Z
ORGANIZER:MAILTO:Gemeindeverwaltung Scheyern
DTSTAMP:20260422T022801Z
DTSTART;VALUE=DATE:20231010
CATEGORIES:Sitzungen
SUMMARY:Sitzung des Gemeinderates
DESCRIPTION:  Weitere Informationen erhalten Sie unter folgendem Link: Ses
	sionNet | Bürortal (livingdata.de)gerinfop Kontakt Gemeindeverwaltung Sch
	eyern
LOCATION:im Rathaus Scheyern\, Ludwigstraße 2
UID:483817932178b8f328d52886dad877dd@293d39a85f0e78018c0e5b8831a28ce3
END:VEVENT
END:VCALENDAR