BEGIN:VCALENDAR
VERSION:2.0
PRODID:< http://www.open2c.de/ >
METHOD:PUBLISH
X-PUBLISHED-TTL:PT12H
BEGIN:VEVENT
CREATED:20230123T112238Z
LAST-MODIFIED:20230314T124304Z
ORGANIZER:MAILTO:Gemeindeverwaltung Scheyern
DTSTAMP:20260422T003001Z
DTSTART;VALUE=DATE:20231114
CATEGORIES:Sitzungen
SUMMARY:Sitzung des Gemeinderates
DESCRIPTION:  Weitere Informationen erhalten Sie unter folgendem Link: Ses
	sionNet | Bürortal (livingdata.de)gerinfop Kontakt Gemeindeverwaltung Sch
	eyern
LOCATION:im Rathaus Scheyern\, Ludwigstraße 2
UID:e289f8133f95cbb3548856b314962979@293d39a85f0e78018c0e5b8831a28ce3
END:VEVENT
END:VCALENDAR