BEGIN:VCALENDAR
VERSION:2.0
PRODID:< http://www.open2c.de/ >
METHOD:PUBLISH
X-PUBLISHED-TTL:PT12H
BEGIN:VEVENT
CREATED:20230313T071041Z
LAST-MODIFIED:20230313T080154Z
ORGANIZER:MAILTO:Alice Köstler-Hösl und Anna Schrag
DTSTAMP:20260420T094906Z
DTSTART;VALUE=DATE:20230420
CATEGORIES:Sitzungen
SUMMARY:Vereinstreffen und Jugendforum
DESCRIPTION:  Einladung zum Vereinstreffen und dem Jugendforum     Sehr 
	geehrte Damen und Herren\,   die Jugendbeauftragte der Gemeinde Scheyern\, 
	Frau Anna Schrag\, und die Frauenunion Scheyern laden herzlich ein zum   F
	rühjahrstreffen   am Donnerstag\, 20. April um 19:30 Uhr   im Dorfgemein
	schaftshaus Euernbach.   Die Einladung richtet sich an die Vertreter der 
	Vereine und Einrichtungen in der Gemeinde Scheyern\, insbesondere auch an d
	iejenigen\, die für die Jugendarbeit verantwortlich sind.   Es geht darum
	\, sich kennen zu lernen\, Aktionen vorzustellen und gemeinsame Anliegen zu 
	besprechen. In den Sommerferien soll auch in diesem Jahr wieder eine Ferie
	npassaktion für die Kinder organisiert werden. Informationen dazu gibt es
	 diesem Abend. Bürgermeister Manfred Sterz wird ebenfalls am Treffen teil
	nehmen.   Gerne können vorab Themenwünsche/Anliegen mitgeteilt werden. 
	Ansprechpartner sind Alice Köstler-Hösl (alice.koestler-hoesl@web.de) un
	d Anna Schrag (anna.schrag@gmx.de).   Wir freuen uns auf einen interessan
	ten Abend rund um das Ehrenamt!   Mit freundlichen Grüßen     gez.  
	 Anna Schrag                               
	                   Alice Köstler-Hösl        
	           Jugendbeauftragte                  
	                      für die Frauenunion Scheyern 
	        Kontakt Alice Köstler-Hösl und Anna Schrag
LOCATION:Dorfgemeinschaftshaus Euernbach\nPfaffenhofener Str. 17\n85298 Euernbach
UID:a02a8a399078bcde6998b197e8ad4eb8@293d39a85f0e78018c0e5b8831a28ce3
END:VEVENT
BEGIN:VEVENT
CREATED:20230411T065955Z
LAST-MODIFIED:20230419T064435Z
DTSTAMP:20260420T094906Z
DTSTART;VALUE=DATE:20230423
CATEGORIES:Vorträge
SUMMARY:Vortrags-Café Ökologie
DESCRIPTION:  Einladung zum Vortrags-Café Ökologie     Sehr geehrte Da
	men und Herren\,   die Klimaschutzmanagerin der Gemeinde Scheyern\, Frau Ka
	thrin Euringer\, und der AK Ökologie des Pfarrgemeinderats laden herzlich 
	ein zum   Vortrags-Café Ökologie   am Sonntag\, 23. April um 15 Uhr im 
	Pfarrzentrum Scheyern.   15:00 Uhr Kaffee\, Tee\, Kuchen und Obst 15:30 Uhr
	 Vortrag „Der insektenfreundliche Garten“\, Dr. Kathrin Euringer\, Gemei
	nde Scheyern 16:00 Uhr Vortrag „Der vogelfreundliche Garten“\, Dorothee
	 Bornemann\, LBV Pfaffenhofen 16:30 Uhr Vortrag „LBV-Plakette Vogelfreund
	licher Garten“ Dorothee Bornemann\, LBV Pfaffenhofen Im Anschluss Austaus
	ch mit den Referentinnen\, Büchertisch und „Pfaffenhofen summt“-Koffer
	. Wir freuen uns auf einen geselligen\, informativen und inspirierenden Nac
	hmittag mit Ihnen!   Weitere Informationen finden Sie hier. Ihr Arbeitskr
	eis Ökologie des Pfarrgemeinderats Scheyern in Zusammenarbeit mit der Kil
	maschutzmanagerin der Gemeinde Scheyern       Mit freundlichen Grüßen
	   gez.   Kathrin Euringer Klimaschutzmanagerin\, Gemeinde Scheyern    
	  
LOCATION:Pfarrzentrum Scheyern\nSchyrenplatz 1\n85298 Scheyern
UID:4d6fc9d0567d479600c417030bddd826@293d39a85f0e78018c0e5b8831a28ce3
END:VEVENT
BEGIN:VEVENT
CREATED:20230411T074230Z
LAST-MODIFIED:20230411T080425Z
DTSTAMP:20260420T094906Z
DTSTART;VALUE=DATE:20230425
CATEGORIES:Klimaschutz\, Biodiversität und erneuerbare Energien
SUMMARY:Klimaschutz-Stammtisch Scheyern
DESCRIPTION:  Einladung zum Klimaschutz-Stammtisch     Sehr geehrte Dame
	n und Herren\,   die Klimaschutzmanagerin der Gemeinde Scheyern\, Frau Kath
	rin Euringer\, lädt herzlich ein zum   Klimaschutz-Stammtisch Scheyern  
	 am Dienstag\, den 25. April um 19 Uhr im Dorfgemeinschaftshaus Euernbach. 
	 Das Klimaschutzkonzept unserer Gemeinde steht unter dem Motto „Unser-S
	cheyern - unsere Zukunft - unsere Verantwortung! Die Energiewende jetzt ak
	tiv gestalten!“.   Letztes Jahr fanden unter diesem Motto mehrere Veran
	staltungen in Scheyern statt\, die bei den Bürgern sehr gut ankamen. Insbe
	sondere der direkte Erfahrungs- und Informationsaustausch von Bürger zu B
	ürger\, sei es zum Thema e-Auto oder Sanieren und die Diskussion aktueller
	 Belange des Klimaschutzes in Scheyern und darüber hinaus mit interessier
	ten Mitbürgern\, fanden großen Anklang.   Ganz in diesem Sinne möchten 
	wir nun einen regelmäßigen Klimaschutz-Stammtisch ins Leben rufen\, der e
	s ermöglicht voneinander zu lernen\, sich auszutauschen und gemeinsam ins 
	Handeln zu kommen:   Besprechung aktueller Themen des aktiven Klimaschutz
	es  aktiver Austausch von Informationen für interessierte Bürger Erfahr
	ungsaustausch aus erster Hand ermöglichen Entwicklung von Projekten und V
	eranstaltungen für Scheyern Motivation stärken neue Impulse für den Kli
	maschutz in Scheyern setzen   Alle Menschen mit Interesse für den Klimas
	chutz in und um Scheyern sind herzlich willkommen!Geplant ist ein zweimona
	tiger Turnus.   Wir freuen uns auf Ihr Kommen\,   mit freundlichen Grüß
	en   gez.   Kathrin Euringer Klimaschutzmanagerin\, Gemeinde Scheyern   
	   
LOCATION:Dorfgemeinschaftshaus Euernbach\nPfaffenhofener Str. 17\n85298 Scheyern
UID:e7760228efb984009a095cc274193015@293d39a85f0e78018c0e5b8831a28ce3
END:VEVENT
END:VCALENDAR