BEGIN:VCALENDAR
VERSION:2.0
PRODID:< http://www.open2c.de/ >
METHOD:PUBLISH
X-PUBLISHED-TTL:PT12H
BEGIN:VEVENT
CREATED:20230411T065955Z
LAST-MODIFIED:20230419T064435Z
DTSTAMP:20260420T112415Z
DTSTART;VALUE=DATE:20230423
CATEGORIES:Vorträge
SUMMARY:Vortrags-Café Ökologie
DESCRIPTION:  Einladung zum Vortrags-Café Ökologie     Sehr geehrte Da
	men und Herren\,   die Klimaschutzmanagerin der Gemeinde Scheyern\, Frau Ka
	thrin Euringer\, und der AK Ökologie des Pfarrgemeinderats laden herzlich 
	ein zum   Vortrags-Café Ökologie   am Sonntag\, 23. April um 15 Uhr im 
	Pfarrzentrum Scheyern.   15:00 Uhr Kaffee\, Tee\, Kuchen und Obst 15:30 Uhr
	 Vortrag „Der insektenfreundliche Garten“\, Dr. Kathrin Euringer\, Gemei
	nde Scheyern 16:00 Uhr Vortrag „Der vogelfreundliche Garten“\, Dorothee
	 Bornemann\, LBV Pfaffenhofen 16:30 Uhr Vortrag „LBV-Plakette Vogelfreund
	licher Garten“ Dorothee Bornemann\, LBV Pfaffenhofen Im Anschluss Austaus
	ch mit den Referentinnen\, Büchertisch und „Pfaffenhofen summt“-Koffer
	. Wir freuen uns auf einen geselligen\, informativen und inspirierenden Nac
	hmittag mit Ihnen!   Weitere Informationen finden Sie hier. Ihr Arbeitskr
	eis Ökologie des Pfarrgemeinderats Scheyern in Zusammenarbeit mit der Kil
	maschutzmanagerin der Gemeinde Scheyern       Mit freundlichen Grüßen
	   gez.   Kathrin Euringer Klimaschutzmanagerin\, Gemeinde Scheyern    
	  
LOCATION:Pfarrzentrum Scheyern\nSchyrenplatz 1\n85298 Scheyern
UID:4d6fc9d0567d479600c417030bddd826@293d39a85f0e78018c0e5b8831a28ce3
END:VEVENT
END:VCALENDAR