BEGIN:VCALENDAR
VERSION:2.0
PRODID:< http://www.open2c.de/ >
METHOD:PUBLISH
X-PUBLISHED-TTL:PT12H
BEGIN:VEVENT
CREATED:20230606T102003Z
LAST-MODIFIED:20230607T055303Z
ORGANIZER;CN="Reiner Schlamp\nMitterscheyern"
DTSTAMP:20260421T172420Z
DTSTART;VALUE=DATE:20230622
CATEGORIES:Ausstellungen
SUMMARY:Vernissage: Querschnitt von Reiner Schlamp
DESCRIPTION:Am Donnerstag\, 22.06.2023 findet um 17.30 Uhr die Vernissage zu
	r Ausstellung   Querschnitt Arbeiten Reiner Schlamp   statt.   Alle Int
	eressierte sind herzlich ins Rathaus eingeladen.   Die Bilder sind die n
	ächsten Wochen noch während der Öffnungszeiten des Rathauses zu bewunde
	rn.     Organisator Reiner Schlamp Mitterscheyern
LOCATION:Rathaus Scheyern\nLudwigstr. 2\n85298 Scheyern
UID:23898657192843b02db409e6f49a21f1@293d39a85f0e78018c0e5b8831a28ce3
END:VEVENT
END:VCALENDAR