BEGIN:VCALENDAR
VERSION:2.0
PRODID:< http://www.open2c.de/ >
METHOD:PUBLISH
X-PUBLISHED-TTL:PT12H
BEGIN:VEVENT
CREATED:20230628T064332Z
LAST-MODIFIED:20230628T064534Z
DTSTAMP:20260421T114101Z
DTSTART;VALUE=DATE:20230710
CATEGORIES:Senioren
SUMMARY:Seniorennachmittag
DESCRIPTION:Am Montag\, den 10.07. treffen wir uns wieder um 14.00 Uhr im Pf
	arrzentrum in Scheyern. Wir werden miteinander Kaffee trinken und uns mit 
	einem guten Stück Kuchen verwöhnen lassen. Es bleibt noch ausreichend Ze
	it\, um miteinander ins Gespräch zu kommen.   
LOCATION:Pfarrzentrum Scheyern
UID:09a5c0af5f2a971b3272887c2eafa71e@293d39a85f0e78018c0e5b8831a28ce3
END:VEVENT
END:VCALENDAR