BEGIN:VCALENDAR
VERSION:2.0
PRODID:< http://www.open2c.de/ >
METHOD:PUBLISH
X-PUBLISHED-TTL:PT12H
BEGIN:VEVENT
CREATED:20230714T094835Z
LAST-MODIFIED:20230714T094954Z
ORGANIZER:MAILTO:Gemeindeverwaltung Scheyern
DTSTAMP:20260422T092846Z
DTSTART;VALUE=DATE:20230725
CATEGORIES:Sitzungen
SUMMARY:Sondersitzung des Gemeinderates
DESCRIPTION:  Weitere Informationen erhalten Sie unter folgendem Link: Ses
	sionNet | Bürortal (livingdata.de)gerinfop Kontakt Gemeindeverwaltung Sch
	eyern
LOCATION:im Rathaus Scheyern\, Ludwigstraße 2
UID:e65b7f89def2829cc1347ad9228e6bba@293d39a85f0e78018c0e5b8831a28ce3
END:VEVENT
END:VCALENDAR