BEGIN:VCALENDAR
VERSION:2.0
PRODID:< http://www.open2c.de/ >
METHOD:PUBLISH
X-PUBLISHED-TTL:PT12H
BEGIN:VEVENT
CREATED:20230802T062539Z
LAST-MODIFIED:20230906T075743Z
ORGANIZER;CN="Christine Rist\, ZBF / Aktion Lebensfreude und\nGisela Wörl\, Senionrenbeauftragte der Gemeinde Scheyern":MAILTO:Christine Rist\nTel. 0176/55425917
DTSTAMP:20260422T085938Z
DTSTART:20231010T180000Z
DTEND:20231010T200000Z
CATEGORIES:Verschiedenes
SUMMARY:Stammtisch Pflege und Betreuung
DESCRIPTION:Der Stammtisch Pflege und Betreuung findet monatlich statt im n
	eu eröffneten Holzofen-Café Wiesender.   Herzlich Willkommen sind alle\,
	 die sich über Pflege und Betreuung austauschen wollen. Angehörige\, Allt
	agsbegleiter\, potentielle Interessierte\, Pflege bzw. Betreuungskräfte....
	.. Ein Erfahrungsaustausch mit Fragen und Antworten mit der Leitung Christ
	ine Rist vom Zentrum für Berufs- und Familienförderung (ZBF / Aktion Leb
	ensfreude).   Auf einen interessanten und geselligen Abend freuen sich Ch
	ristine Rist und Gisela Wörl (Seniorenbeauftrage der Gemeinde Scheyern). 
	Bei Fragen dürfen Sie sich gerne an Christine Rist wenden unter Telefon 0
	176/55425917.     Organisator Christine Rist\, ZBF / Aktion Lebensfreude 
	und Gisela Wörl\, Senionrenbeauftragte der Gemeinde Scheyern Kontakt Chris
	tine Rist Tel. 0176/55425917
LOCATION:Holzofen-Café Wiesender\nKlosterberg 2\n85298 Scheyern
UID:50943cf32d42ee42c1be3cfdded806e3@293d39a85f0e78018c0e5b8831a28ce3
END:VEVENT
END:VCALENDAR