BEGIN:VCALENDAR
VERSION:2.0
PRODID:< http://www.open2c.de/ >
METHOD:PUBLISH
X-PUBLISHED-TTL:PT12H
BEGIN:VEVENT
CREATED:20230914T112329Z
LAST-MODIFIED:20230914T112521Z
DTSTAMP:20260423T182433Z
DTSTART;VALUE=DATE:20231110
CATEGORIES:Verschiedenes
SUMMARY:St. Martinsfeier
DESCRIPTION:Einladung folgt!
UID:d530256ec9ffd35d5a01f2f1d6f76a43@293d39a85f0e78018c0e5b8831a28ce3
END:VEVENT
END:VCALENDAR