BEGIN:VCALENDAR
VERSION:2.0
PRODID:< http://www.open2c.de/ >
METHOD:PUBLISH
X-PUBLISHED-TTL:PT12H
BEGIN:VEVENT
CREATED:20230914T112718Z
LAST-MODIFIED:20230914T112826Z
DTSTAMP:20260423T164332Z
DTSTART;VALUE=DATE:20231206
CATEGORIES:Verschiedenes
SUMMARY:Nikolausfeier
DESCRIPTION:Krippeninterne Feier 
UID:2dcb4a5d7cadac668de1990b8af5e060@293d39a85f0e78018c0e5b8831a28ce3
END:VEVENT
END:VCALENDAR