BEGIN:VCALENDAR
VERSION:2.0
PRODID:< http://www.open2c.de/ >
METHOD:PUBLISH
X-PUBLISHED-TTL:PT12H
BEGIN:VEVENT
CREATED:20231227T104344Z
LAST-MODIFIED:20231227T104546Z
ORGANIZER:MAILTO:Gemeindeverwaltung Scheyern
DTSTAMP:20260421T212627Z
DTSTART;VALUE=DATE:20240116
CATEGORIES:Sitzungen
SUMMARY:Sitzung des Gemeinderates
DESCRIPTION:  Weitere Informationen erhalten Sie unter folgendem Link: Ses
	sionNet | Bürortal (livingdata.de)gerinfop Kontakt Gemeindeverwaltung Sch
	eyern
LOCATION:im Rathaus Scheyern\, Ludwigstraße 2
UID:9f6110734274c6489ac7ddcfef0a0033@293d39a85f0e78018c0e5b8831a28ce3
END:VEVENT
BEGIN:VEVENT
CREATED:20231227T104642Z
LAST-MODIFIED:20231227T104718Z
ORGANIZER:MAILTO:Gemeindeverwaltung Scheyern
DTSTAMP:20260421T212627Z
DTSTART;VALUE=DATE:20240129
CATEGORIES:Sitzungen
SUMMARY:Sitzung des Werk- und Vergabeausschusses
DESCRIPTION:  Weitere Informationen erhalten Sie unter folgendem Link: Ses
	sionNet | Bürgerinfoportal (livingdata.de) Kontakt Gemeindeverwaltung Sch
	eyern
LOCATION:im Rathaus Scheyern\, Ludwigstraße 2
UID:30781d3b29ef2f3e0135ee92f4a2396e@293d39a85f0e78018c0e5b8831a28ce3
END:VEVENT
BEGIN:VEVENT
CREATED:20231227T104604Z
LAST-MODIFIED:20231227T104631Z
ORGANIZER:MAILTO:Gemeindeverwaltung Scheyern
DTSTAMP:20260421T212627Z
DTSTART;VALUE=DATE:20240130
CATEGORIES:Sitzungen
SUMMARY:Sitzung des Bau- und Umweltausschusses
DESCRIPTION:  Weitere Informationen erhalten Sie unter folgendem Link: Ses
	sionNet | Bürortal (livingdata.de)gerinfop Kontakt Gemeindeverwaltung Sch
	eyern
LOCATION:im Rathaus Scheyern\, Ludwigstraße 2
UID:827a5251b50daeabf234a7ca96e0df3b@293d39a85f0e78018c0e5b8831a28ce3
END:VEVENT
BEGIN:VEVENT
CREATED:20231227T104241Z
LAST-MODIFIED:20231227T104323Z
ORGANIZER:MAILTO:Gemeindeverwaltung Scheyern
DTSTAMP:20260421T212627Z
DTSTART;VALUE=DATE:20240131
CATEGORIES:Sitzungen
SUMMARY:Sitzung des Haupt- und Finanzausschusses
DESCRIPTION:  Weitere Informationen erhalten Sie unter folgendem Link: Ses
	sionNet | Bürortal (livingdata.de)gerinfop Kontakt Gemeindeverwaltung Sch
	eyern
LOCATION:im Rathaus Scheyern\, Ludwigstraße 2
UID:9d25acfeda3dedb8ca2365b2b88787e5@293d39a85f0e78018c0e5b8831a28ce3
END:VEVENT
END:VCALENDAR