BEGIN:VCALENDAR
VERSION:2.0
PRODID:< http://www.open2c.de/ >
METHOD:PUBLISH
X-PUBLISHED-TTL:PT12H
BEGIN:VEVENT
CREATED:20240108T140849Z
LAST-MODIFIED:20240108T141004Z
ORGANIZER:MAILTO:Gemeindeverwaltung Scheyern
DTSTAMP:20260421T183520Z
DTSTART;VALUE=DATE:20240312
CATEGORIES:Sitzungen
SUMMARY:Sitzung des Gemeinderates
DESCRIPTION:  Weitere Informationen erhalten Sie unter folgendem Link: Ses
	sionNet | Bürortal (livingdata.de)gerinfop Kontakt Gemeindeverwaltung Sch
	eyern
LOCATION:im Rathaus Scheyern\, Ludwigstraße 2
UID:d9bf7c0cbc9704f9f0d9a88a727e665a@293d39a85f0e78018c0e5b8831a28ce3
END:VEVENT
END:VCALENDAR