BEGIN:VCALENDAR
VERSION:2.0
PRODID:< http://www.open2c.de/ >
METHOD:PUBLISH
X-PUBLISHED-TTL:PT12H
BEGIN:VEVENT
CREATED:20240108T143835Z
LAST-MODIFIED:20240108T143937Z
ORGANIZER:MAILTO:Gemeindeverwaltung Scheyern
DTSTAMP:20260423T083240Z
DTSTART;VALUE=DATE:20240409
CATEGORIES:Sitzungen
SUMMARY:Sitzung des Gemeinderates
DESCRIPTION:  Weitere Informationen erhalten Sie unter folgendem Link: Ses
	sionNet | Bürortal (livingdata.de)gerinfop Kontakt Gemeindeverwaltung Sch
	eyern
LOCATION:im Rathaus Scheyern\, Ludwigstraße 2
UID:67a963269b8a1269e8fa64b2621c939c@293d39a85f0e78018c0e5b8831a28ce3
END:VEVENT
END:VCALENDAR