BEGIN:VCALENDAR
VERSION:2.0
PRODID:< http://www.open2c.de/ >
METHOD:PUBLISH
X-PUBLISHED-TTL:PT12H
BEGIN:VEVENT
CREATED:20240108T144112Z
LAST-MODIFIED:20240108T144155Z
ORGANIZER:MAILTO:Gemeindeverwaltung Scheyern
DTSTAMP:20260421T134459Z
DTSTART;VALUE=DATE:20240507
CATEGORIES:Sitzungen
SUMMARY:Sitzung des Gemeinderates
DESCRIPTION:  Weitere Informationen erhalten Sie unter folgendem Link: Ses
	sionNet | Bürortal (livingdata.de)gerinfop Kontakt Gemeindeverwaltung Sch
	eyern
LOCATION:im Rathaus Scheyern\, Ludwigstraße 2
UID:f1e211b2674fdcf99987164cdb007749@293d39a85f0e78018c0e5b8831a28ce3
END:VEVENT
BEGIN:VEVENT
CREATED:20240109T070815Z
LAST-MODIFIED:20240109T070835Z
ORGANIZER:MAILTO:Gemeindeverwaltung Scheyern
DTSTAMP:20260421T134459Z
DTSTART;VALUE=DATE:20240513
CATEGORIES:Sitzungen
SUMMARY:Sitzung des Werk- und Vergabeausschusses
DESCRIPTION:  Weitere Informationen erhalten Sie unter folgendem Link: Ses
	sionNet | Bürgerinfoportal (livingdata.de) Kontakt Gemeindeverwaltung Sch
	eyern
LOCATION:im Rathaus Scheyern\, Ludwigstraße 2
UID:d4637dd366fff5c1ac8e127a02f4468a@293d39a85f0e78018c0e5b8831a28ce3
END:VEVENT
BEGIN:VEVENT
CREATED:20240109T065415Z
LAST-MODIFIED:20240109T065458Z
ORGANIZER:MAILTO:Gemeindeverwaltung Scheyern
DTSTAMP:20260421T134459Z
DTSTART;VALUE=DATE:20240514
CATEGORIES:Sitzungen
SUMMARY:Sitzung des Bau- und Umweltausschusses
DESCRIPTION:  Weitere Informationen erhalten Sie unter folgendem Link: Ses
	sionNet | Bürortal (livingdata.de)gerinfop Kontakt Gemeindeverwaltung Sch
	eyern
LOCATION:im Rathaus Scheyern\, Ludwigstraße 2
UID:b1146dad8e1be612427c80c93729f71f@293d39a85f0e78018c0e5b8831a28ce3
END:VEVENT
END:VCALENDAR