BEGIN:VCALENDAR
VERSION:2.0
PRODID:< http://www.open2c.de/ >
METHOD:PUBLISH
X-PUBLISHED-TTL:PT12H
BEGIN:VEVENT
CREATED:20240108T144502Z
LAST-MODIFIED:20240829T084427Z
ORGANIZER:MAILTO:Gemeindeverwaltung Scheyern
DTSTAMP:20260421T084944Z
DTSTART;VALUE=DATE:20240910
CATEGORIES:Sitzungen
SUMMARY:Sitzung des Gemeinderates
DESCRIPTION:  Weitere Informationen erhalten Sie unter folgendem Link: Ses
	sionNet | Bürgerportal Kontakt Gemeindeverwaltung Scheyern
LOCATION:im "alten" Rathaus Scheyern\, Ludwigstraße 2
UID:2f1777cdc79769a33e10e158169e0897@293d39a85f0e78018c0e5b8831a28ce3
END:VEVENT
END:VCALENDAR