BEGIN:VCALENDAR
VERSION:2.0
PRODID:< http://www.open2c.de/ >
METHOD:PUBLISH
X-PUBLISHED-TTL:PT12H
BEGIN:VEVENT
CREATED:20240108T144855Z
LAST-MODIFIED:20240930T072604Z
ORGANIZER:MAILTO:Gemeindeverwaltung Scheyern
DTSTAMP:20260421T053929Z
DTSTART;VALUE=DATE:20241112
CATEGORIES:Sitzungen
SUMMARY:Sitzung des Gemeinderates
DESCRIPTION:  Weitere Informationen erhalten Sie unter folgendem Link: Ses
	sionNet | Bürgerportal Kontakt Gemeindeverwaltung Scheyern
LOCATION:im neuen Bürgersaal  2.OG Rathausplatz 2
UID:10a62ff3b084208a3ad59d8dabf464e1@293d39a85f0e78018c0e5b8831a28ce3
END:VEVENT
BEGIN:VEVENT
CREATED:20241030T105815Z
LAST-MODIFIED:20241030T110110Z
ORGANIZER:MAILTO:Gemeindeverwaltung Scheyern
DTSTAMP:20260421T053929Z
DTSTART;VALUE=DATE:20241120
CATEGORIES:Sitzungen
SUMMARY:Sitzung des Haupt- und Finanzausschusses
DESCRIPTION:  Weitere Informationen erhalten Sie unter folgendem Link: Ses
	sionNet | Bürgerportal Kontakt Gemeindeverwaltung Scheyern
LOCATION:im neuen Bürgersaal\, Rathausplatz 2 (2. OG)
UID:22c9884c79f5064063e3d812a54dcd86@293d39a85f0e78018c0e5b8831a28ce3
END:VEVENT
BEGIN:VEVENT
CREATED:20240109T071344Z
LAST-MODIFIED:20241011T072818Z
ORGANIZER:MAILTO:Gemeindeverwaltung Scheyern
DTSTAMP:20260421T053929Z
DTSTART;VALUE=DATE:20241125
CATEGORIES:Sitzungen
SUMMARY:Sitzung des Werk- und Vergabeausschusses
DESCRIPTION:  Weitere Informationen erhalten Sie unter folgendem Link: Ses
	sionNet | Bürgerportal Kontakt Gemeindeverwaltung Scheyern
LOCATION:im neuen Bürgersaal 2.OG Rathausplatz 2
UID:d29099b60def7b94f718e4c788f14094@293d39a85f0e78018c0e5b8831a28ce3
END:VEVENT
BEGIN:VEVENT
CREATED:20240109T070050Z
LAST-MODIFIED:20241011T072916Z
ORGANIZER:MAILTO:Gemeindeverwaltung Scheyern
DTSTAMP:20260421T053929Z
DTSTART;VALUE=DATE:20241126
CATEGORIES:Sitzungen
SUMMARY:Sitzung des Bau- und Umweltausschusses
DESCRIPTION:  Weitere Informationen erhalten Sie unter folgendem Link: Ses
	sionNet | Bürgerportal Kontakt Gemeindeverwaltung Scheyern
LOCATION:im neuen Bürgersaal 2.OG Rathausplatz 2
UID:d774d26a76bb3d38a7d4d6e0942da5a8@293d39a85f0e78018c0e5b8831a28ce3
END:VEVENT
END:VCALENDAR