BEGIN:VCALENDAR
VERSION:2.0
PRODID:< http://www.open2c.de/ >
METHOD:PUBLISH
X-PUBLISHED-TTL:PT12H
BEGIN:VEVENT
CREATED:20240108T144957Z
LAST-MODIFIED:20240930T072750Z
ORGANIZER:MAILTO:Gemeindeverwaltung Scheyern
DTSTAMP:20260421T053556Z
DTSTART;VALUE=DATE:20241210
CATEGORIES:Sitzungen
SUMMARY:Sitzung des Gemeinderates
DESCRIPTION:  Weitere Informationen erhalten Sie unter folgendem Link: Ses
	sionNet | Bürgerportal Kontakt Gemeindeverwaltung Scheyern
LOCATION:in neuen Bürgersaal\, Rathausplatz 2 ( 2.OG)
UID:d084f23169f566cf51d06bebc7c68b2f@293d39a85f0e78018c0e5b8831a28ce3
END:VEVENT
END:VCALENDAR