BEGIN:VCALENDAR
VERSION:2.0
PRODID:< http://www.open2c.de/ >
METHOD:PUBLISH
X-PUBLISHED-TTL:PT12H
BEGIN:VEVENT
CREATED:20240109T070601Z
LAST-MODIFIED:20240109T070636Z
ORGANIZER:MAILTO:Gemeindeverwaltung Scheyern
DTSTAMP:20260421T183709Z
DTSTART;VALUE=DATE:20240318
CATEGORIES:Sitzungen
SUMMARY:Sitzung des Werk- und Vergabeausschusses
DESCRIPTION:  Weitere Informationen erhalten Sie unter folgendem Link: Ses
	sionNet | Bürgerinfoportal (livingdata.de) Kontakt Gemeindeverwaltung Sch
	eyern
LOCATION:im Rathaus Scheyern\, Ludwigstraße 2
UID:0d55d3eb97e7641e7eec5ec30c4531a4@293d39a85f0e78018c0e5b8831a28ce3
END:VEVENT
END:VCALENDAR