BEGIN:VCALENDAR
VERSION:2.0
PRODID:< http://www.open2c.de/ >
METHOD:PUBLISH
X-PUBLISHED-TTL:PT12H
BEGIN:VEVENT
CREATED:20240109T070903Z
LAST-MODIFIED:20240109T070945Z
ORGANIZER:MAILTO:Gemeindeverwaltung Scheyern
DTSTAMP:20260421T134806Z
DTSTART;VALUE=DATE:20240624
CATEGORIES:Sitzungen
SUMMARY:Sitzung des Werk- und Vergabeausschusses
DESCRIPTION:  Weitere Informationen erhalten Sie unter folgendem Link: Ses
	sionNet | Bürgerinfoportal (livingdata.de) Kontakt Gemeindeverwaltung Sch
	eyern
LOCATION:im Rathaus Scheyern\, Ludwigstraße 2
UID:2caa0a43139f07d2caffc4d387805658@293d39a85f0e78018c0e5b8831a28ce3
END:VEVENT
END:VCALENDAR