BEGIN:VCALENDAR
VERSION:2.0
PRODID:< http://www.open2c.de/ >
METHOD:PUBLISH
X-PUBLISHED-TTL:PT12H
BEGIN:VEVENT
CREATED:20240109T071135Z
LAST-MODIFIED:20240829T084318Z
ORGANIZER:MAILTO:Gemeindeverwaltung Scheyern
DTSTAMP:20260421T084944Z
DTSTART;VALUE=DATE:20240923
CATEGORIES:Sitzungen
SUMMARY:Sitzung des Werk- und Vergabeausschusses
DESCRIPTION:  Weitere Informationen erhalten Sie unter folgendem Link: Ses
	sionNet | Bürgerportal   Kontakt Gemeindeverwaltung Scheyern
LOCATION:im Rathaus Scheyern\, Rathausplatz 1
UID:22d41b6cde02553917d431577b296dee@293d39a85f0e78018c0e5b8831a28ce3
END:VEVENT
END:VCALENDAR