BEGIN:VCALENDAR
VERSION:2.0
PRODID:< http://www.open2c.de/ >
METHOD:PUBLISH
X-PUBLISHED-TTL:PT12H
BEGIN:VEVENT
CREATED:20240208T125526Z
LAST-MODIFIED:20240208T125718Z
ORGANIZER:MAILTO:Gemeindeverwaltung Scheyern
DTSTAMP:20260421T182615Z
DTSTART;VALUE=DATE:20240214
CATEGORIES:Sitzungen
SUMMARY:Sitzung des Werk- und Vergabeausschusses
DESCRIPTION:  Weitere Informationen erhalten Sie unter folgendem Link: Ses
	sionNet | Bürgerinfoportal (livingdata.de) Kontakt Gemeindeverwaltung Sch
	eyern
LOCATION:Neue Ortsmitte\nRathausplatz 1\n85298 Scheyern
UID:886e54ea13b6cc61c9c8b2c1f048950d@293d39a85f0e78018c0e5b8831a28ce3
END:VEVENT
BEGIN:VEVENT
CREATED:20240108T140315Z
LAST-MODIFIED:20240108T140525Z
ORGANIZER:MAILTO:Gemeindeverwaltung Scheyern
DTSTAMP:20260421T182615Z
DTSTART;VALUE=DATE:20240220
CATEGORIES:Sitzungen
SUMMARY:Sitzung des Gemeinderates
DESCRIPTION:  Weitere Informationen erhalten Sie unter folgendem Link: Ses
	sionNet | Bürortal (livingdata.de)gerinfop Kontakt Gemeindeverwaltung Sch
	eyern
LOCATION:im Rathaus Scheyern\, Ludwigstraße 2
UID:dfb1204400003c6e6d694ae8b137f337@293d39a85f0e78018c0e5b8831a28ce3
END:VEVENT
BEGIN:VEVENT
CREATED:20240109T064803Z
LAST-MODIFIED:20240109T065022Z
ORGANIZER:MAILTO:Gemeindeverwaltung Scheyern
DTSTAMP:20260421T182615Z
DTSTART;VALUE=DATE:20240227
CATEGORIES:Sitzungen
SUMMARY:Sitzung des Bau- und Umweltausschusses
DESCRIPTION:  Weitere Informationen erhalten Sie unter folgendem Link: Ses
	sionNet | Bürortal (livingdata.de)gerinfop Kontakt Gemeindeverwaltung Sch
	eyern
LOCATION:im Rathaus Scheyern\, Ludwigstraße 2
UID:dd5284c1b654a718f88277428d5fd06e@293d39a85f0e78018c0e5b8831a28ce3
END:VEVENT
BEGIN:VEVENT
CREATED:20240109T064504Z
LAST-MODIFIED:20240109T064630Z
ORGANIZER:MAILTO:Gemeindeverwaltung Scheyern
DTSTAMP:20260421T182615Z
DTSTART;VALUE=DATE:20240228
CATEGORIES:Sitzungen
SUMMARY:Sitzung des Haupt- und Finanzausschusses
DESCRIPTION:  Weitere Informationen erhalten Sie unter folgendem Link: Ses
	sionNet | Bürortal (livingdata.de)gerinfop Kontakt Gemeindeverwaltung Sch
	eyern
LOCATION:im Rathaus Scheyern\, Ludwigstraße 2
UID:005a29f4d2500971cdaf385eeaa39c2a@293d39a85f0e78018c0e5b8831a28ce3
END:VEVENT
END:VCALENDAR