BEGIN:VCALENDAR
VERSION:2.0
PRODID:< http://www.open2c.de/ >
METHOD:PUBLISH
X-PUBLISHED-TTL:PT12H
BEGIN:VEVENT
CREATED:20240208T141343Z
LAST-MODIFIED:20240208T141618Z
ORGANIZER;CN="Kloster Scheyern"
DTSTAMP:20260422T002250Z
DTSTART;VALUE=DATE:20240329
CATEGORIES:Kirche
SUMMARY:900+ „KLANG UND LITURGIE“ – DER GALILÄER
DESCRIPTION:  Karfreitag | 29. März 2024 | 18.00 Uhr (Basilika) Stummfilm
	 „Der Galiläer“\, untermalt mit Orgelimprovisationen des renommierten 
	Konzertorganist Paolo Oreni.   Quelle: Kloster Scheyern Organisator Klost
	er Scheyern
LOCATION:Basilika Scheyern
UID:f895e253d8a3fc4072b531a349cca8eb@293d39a85f0e78018c0e5b8831a28ce3
END:VEVENT
END:VCALENDAR