BEGIN:VCALENDAR
VERSION:2.0
PRODID:< http://www.open2c.de/ >
METHOD:PUBLISH
X-PUBLISHED-TTL:PT12H
BEGIN:VEVENT
CREATED:20240209T100607Z
LAST-MODIFIED:20240410T113740Z
ORGANIZER;CN="Heimatkreis Scheyern"
DTSTAMP:20260421T211322Z
DTSTART;VALUE=DATE:20240501
CATEGORIES:Vereine
SUMMARY:Maibaumaufstellen
DESCRIPTION:Dieses Jahr findet das Maibaumaufstellen zum ersten Mal am neue
	n Standort (Neue Ortsmitte) mit feierlicher Umrahmung statt .       Org
	anisator Heimatkreis Scheyern
LOCATION:Rathausplatz 1\n85298 Scheyern
UID:e06af49b0887722271984a8ab823b06b@293d39a85f0e78018c0e5b8831a28ce3
END:VEVENT
END:VCALENDAR