BEGIN:VCALENDAR
VERSION:2.0
PRODID:< http://www.open2c.de/ >
METHOD:PUBLISH
X-PUBLISHED-TTL:PT12H
BEGIN:VEVENT
CREATED:20240301T114015Z
LAST-MODIFIED:20240301T114411Z
ORGANIZER;CN="Gemeinde Scheyern":MAILTO:Vorzimmer Bürgermeister\n08441/8064-32
DTSTAMP:20260422T002303Z
DTSTART;VALUE=DATE:20240313
CATEGORIES:Sitzungen
SUMMARY:Treffen des Arbeitskreis Energie-Team
DESCRIPTION:  Einladung an alle interessierten Bürgerinnen und Bürger in
	s offene\, neu gegründete Energie-Team. Organisator Gemeinde Scheyern Kont
	akt Vorzimmer Bürgermeister 08441/8064-32
LOCATION:Sitzungssaal des Rathauses Scheyern\nLudwigstr. 2\n85298 Scheyern
UID:1815dea8a6b5996f47a279e3ad492e51@293d39a85f0e78018c0e5b8831a28ce3
END:VEVENT
END:VCALENDAR