BEGIN:VCALENDAR
VERSION:2.0
PRODID:< http://www.open2c.de/ >
METHOD:PUBLISH
X-PUBLISHED-TTL:PT12H
BEGIN:VEVENT
CREATED:20240516T120626Z
LAST-MODIFIED:20240516T122633Z
DTSTAMP:20260421T212703Z
DTSTART;VALUE=DATE:20240526
CATEGORIES:Ausstellungen
SUMMARY:4. Grünlandtag mit großem Schlütertreffen
DESCRIPTION:     
LOCATION:Familie Wolf\nVogelried 1\n85298 Scheyern
UID:864b923b1fe159c173b78f6e10324c0b@293d39a85f0e78018c0e5b8831a28ce3
END:VEVENT
END:VCALENDAR