BEGIN:VCALENDAR
VERSION:2.0
PRODID:< http://www.open2c.de/ >
METHOD:PUBLISH
X-PUBLISHED-TTL:PT12H
BEGIN:VEVENT
CREATED:20240517T095039Z
LAST-MODIFIED:20240709T074305Z
ORGANIZER;CN="die Scheyerer Vereine"
DTSTAMP:20260421T194606Z
DTSTART;VALUE=DATE:20240720
CATEGORIES:Weinfest
SUMMARY:Weinfest der Scheyrer Vereine
DESCRIPTION:   Weinfest der Scheyerer Vereine Die neue Dorfmitte ist seit 
	einigen Wochen fertig und gibt nun ortsansässigen Vereinen die Möglichke
	it\, an diesem idealen Platz das „1. Scheyerer Weinfest“ zu veranstalte
	n. Es findet bei schönem Wetter am Samstag\, den 20.07.2024 beim neuen Rat
	haus in Scheyern statt. Veranstalter sind Feuerwehr\, Schützen- und Imkerv
	erein. Neben Bioweinen aus Österreich gibt es auch eine Auswahl an Pfälz
	er Weinen. Dazu werden Steckerlfisch\, Quiche\, Flammkuchen\, Steaksemmeln\, S
	chweinswürstl\, und Käse angeboten. Süßspeisen\, Kuchen\, Eis und Pfannku
	chen bietet das  Bistro Marienkäfer. Beginn ab 17:00 Uhr. Es spielt die
	 Pfaffenhofener Dixigruppe „Tiny Bubbles Jazz Band“. Die Veranstalter 
	freuen sich auf einen schönen Abend und regen Besuch. Für die Kleinen gi
	bt es zwei Hüpfburgen und die Größeren können Ihr Geschick beim Biertr
	aglklettern unter Beweis stellen.   Organisator die Scheyerer Vereine
LOCATION:Rathausplatz 1 + 2\n85298 Scheyern
UID:af92ccae72ed173c23a4c0c2e6a849e6@293d39a85f0e78018c0e5b8831a28ce3
END:VEVENT
END:VCALENDAR